BEGIN:VCALENDAR
VERSION:2.0
PRODID:-//hacksw/handcal//NONSGML v1.0//EN

BEGIN:VEVENT
UID:650636997344@prospectorsclub.com
ORGANIZER;CN=nimesha:MAILTO:nimesha@livingdreamsweb.com.au
DTSTART:20181227T070000
DTEND:20181227T235900
SUMMARY:Das Hardin - Village Flower Co.
DESCRIPTION:
URL:https://prospectorsclub.com/events/2018/12/phil-giordano-grade-a-tree-care/
LOCATION:Village Flower Co.
6978 Mission Road
Prairie Village , KS
United States
END:VEVENT

END:VCALENDAR