BEGIN:VCALENDAR
VERSION:2.0
PRODID:-//hacksw/handcal//NONSGML v1.0//EN

BEGIN:VEVENT
UID:652186476089@prospectorsclub.com
ORGANIZER;CN=nimesha:MAILTO:nimesha@livingdreamsweb.com.au
DTSTART:20181220T070000
DTEND:20181220T235900
SUMMARY:Alan Goodheart - Goodheart's Fine Jewelry
DESCRIPTION:
URL:https://prospectorsclub.com/events/2018/12/thanksgiving-no-meeting/
LOCATION:Deer Creek CC
7000 West 133rd St.
66209 Overland Park
United States
END:VEVENT

END:VCALENDAR