BEGIN:VCALENDAR
VERSION:2.0
PRODID:-//hacksw/handcal//NONSGML v1.0//EN

BEGIN:VEVENT
UID:2934843583471@prospectorsclub.com
ORGANIZER;CN=abgoodheart@sbcglobal.net:MAILTO:abgoodheart@sbcglobal.net
DTSTART:20190530T073000
DTEND:20190530T083000
SUMMARY:Keith Steiniger - Proforma IDology
DESCRIPTION:
URL:https://prospectorsclub.com/events/2019/05/keith-steiniger-proforma-idology/
LOCATION:7000 W 133rd St, Leawood, KS 66209, USA
END:VEVENT

END:VCALENDAR