BEGIN:VCALENDAR
VERSION:2.0
PRODID:-//hacksw/handcal//NONSGML v1.0//EN

BEGIN:VEVENT
UID:29571806538816@prospectorsclub.com
ORGANIZER;CN=abgoodheart@sbcglobal.net:MAILTO:abgoodheart@sbcglobal.net
DTSTART:20190614T160000
DTEND:20190614T193000
SUMMARY:ATF! AFTER THE FACTS - Hosts Boehringer, Sirna, Sewell
DESCRIPTION:Friday Night June 14th – Our next ATF – A Joint After The Fact hosted by Kevin Boehringer, Amber Sewell, and Rich Sirna AT BSE STRUCTURAL ENGINEERS building located at  11320 West 79th St., Lenexa, KS 66214.  Come see an amazing blend of work and fun. Enjoy some light appetizers and beverages.  Mark your calendars NOW!
URL:https://prospectorsclub.com/events/2019/06/atf-after-the-facts-hosts-boehringer-sirna-sewell/
LOCATION:11320 W 79th St, Overland Park, KS 66214, USA
END:VEVENT

END:VCALENDAR