BEGIN:VCALENDAR
VERSION:2.0
PRODID:-//hacksw/handcal//NONSGML v1.0//EN

BEGIN:VEVENT
UID:30271912917726@prospectorsclub.com
ORGANIZER;CN=Brandon:MAILTO:brandon@intouchwebsolutions.com
DTSTART:20190926T000100
DTEND:20190926T235900
SUMMARY:NO MEETING DUE TO GOLF TOURNEY TOMORROW 9/27/19
DESCRIPTION:
URL:https://prospectorsclub.com/events/2019/09/no-meeting-due-to-golf-tourney-tomorrow-9-27-19/
END:VEVENT

END:VCALENDAR