BEGIN:VCALENDAR
VERSION:2.0
PRODID:-//hacksw/handcal//NONSGML v1.0//EN

BEGIN:VEVENT
UID:2958640753741@prospectorsclub.com
ORGANIZER;CN=abgoodheart@sbcglobal.net:MAILTO:abgoodheart@sbcglobal.net
DTSTART:20190927T110000
DTEND:20190927T190000
SUMMARY:Prospectors Annual Golf Tournament at Deer Creek CC
DESCRIPTION:
URL:https://prospectorsclub.com/events/2019/09/prospectors-annual-golf-tournament-at-deer-creek-cc/
LOCATION:7000 W 133rd St, Leawood, KS 66209, USA
END:VEVENT

END:VCALENDAR