BEGIN:VCALENDAR
VERSION:2.0
PRODID:-//hacksw/handcal//NONSGML v1.0//EN

BEGIN:VEVENT
UID:3026809703879@prospectorsclub.com
ORGANIZER;CN=Brandon:MAILTO:brandon@intouchwebsolutions.com
DTSTART:20191017T070000
DTEND:20191017T235900
SUMMARY:Alan Goodheart of Goodheart’s Jewelry
DESCRIPTION:
URL:https://prospectorsclub.com/events/2019/10/alan-goodheart-of-goodhearts-jewelry/
LOCATION:7000 W 133rd St, Leawood, KS 66209, USA
END:VEVENT

END:VCALENDAR