BEGIN:VCALENDAR
VERSION:2.0
PRODID:-//hacksw/handcal//NONSGML v1.0//EN

BEGIN:VEVENT
UID:30331340303857@prospectorsclub.com
ORGANIZER;CN=Brandon:MAILTO:brandon@intouchwebsolutions.com
DTSTART:20200102T000100
DTEND:20200102T235900
SUMMARY:NO MEETING – NEW YEARS
DESCRIPTION:
URL:https://prospectorsclub.com/events/2020/01/no-meeting-new-years/
END:VEVENT

END:VCALENDAR