BEGIN:VCALENDAR
VERSION:2.0
PRODID:-//hacksw/handcal//NONSGML v1.0//EN

BEGIN:VEVENT
UID:32281207060605@prospectorsclub.com
ORGANIZER;CN=Brandon:MAILTO:brandon@intouchwebsolutions.com
DTSTART:20200326T000100
DTEND:20200326T235900
SUMMARY:Ann Wilkinson of First National Bank of Omaha
DESCRIPTION: [map id="2"] 
URL:https://prospectorsclub.com/events/2020/03/ann-wilkinson-of-first-national-bank-of-omaha/
LOCATION:7000 W 133rd St, Leawood, KS 66209, USA
END:VEVENT

END:VCALENDAR