BEGIN:VCALENDAR
VERSION:2.0
PRODID:-//hacksw/handcal//NONSGML v1.0//EN

BEGIN:VEVENT
UID:32262117155438@prospectorsclub.com
ORGANIZER;CN=Brandon:MAILTO:brandon@intouchwebsolutions.com
DTSTART:20200312T000100
DTEND:20200312T235900
SUMMARY:Chris Pickering of the Pickering Law Firm
DESCRIPTION:
URL:https://prospectorsclub.com/events/2020/03/chris-pickering-of-the-pickering-law-firm/
LOCATION:7000 W 133rd St, Leawood, KS 66209, USA
END:VEVENT

END:VCALENDAR