BEGIN:VCALENDAR
VERSION:2.0
PRODID:-//hacksw/handcal//NONSGML v1.0//EN

BEGIN:VEVENT
UID:32411380341345@prospectorsclub.com
ORGANIZER;CN=Brandon:MAILTO:brandon@intouchwebsolutions.com
DTSTART:20200402T000100
DTEND:20200402T235900
SUMMARY:Kevin Boehringer of BSE Structural Engineering
DESCRIPTION:
URL:https://prospectorsclub.com/events/2020/04/kevin-boehringer-of-bse-structural-engineering/
LOCATION:7000 W 133rd St, Leawood, KS 66209, USA
END:VEVENT

END:VCALENDAR